BEGIN:VCALENDAR
VERSION:2.0
PRODID:-//LIGA Saar - ECPv6.15.17//NONSGML v1.0//EN
CALSCALE:GREGORIAN
METHOD:PUBLISH
X-ORIGINAL-URL:https://www.liga-saar.de
X-WR-CALDESC:Veranstaltungen für LIGA Saar
REFRESH-INTERVAL;VALUE=DURATION:PT1H
X-Robots-Tag:noindex
X-PUBLISHED-TTL:PT1H
BEGIN:VTIMEZONE
TZID:UTC
BEGIN:STANDARD
TZOFFSETFROM:+0000
TZOFFSETTO:+0000
TZNAME:UTC
DTSTART:20250101T000000
END:STANDARD
END:VTIMEZONE
BEGIN:VEVENT
DTSTART;TZID=UTC:20260813T130000
DTEND;TZID=UTC:20260813T160000
DTSTAMP:20260423T002520
CREATED:20251201T133447Z
LAST-MODIFIED:20251201T133706Z
UID:17150-1786626000-1786636800@www.liga-saar.de
SUMMARY:Sitzung LIGA-Ausschuss Entgeltfragen Eingliederungshilfe
DESCRIPTION:
URL:https://www.liga-saar.de/event/sitzung-liga-ausschuss-entgeltfragen-eingliederungshilfe-4/
LOCATION:LIGA-Geschäftsstelle\, Ernst-Abbe-Str. 1\, Saarbrücken\, Saarland\, 66115\, Deutschland
END:VEVENT
END:VCALENDAR