BEGIN:VCALENDAR
VERSION:2.0
PRODID:-//LIGA Saar - ECPv6.15.17//NONSGML v1.0//EN
CALSCALE:GREGORIAN
METHOD:PUBLISH
X-ORIGINAL-URL:https://www.liga-saar.de
X-WR-CALDESC:Veranstaltungen für LIGA Saar
REFRESH-INTERVAL;VALUE=DURATION:PT1H
X-Robots-Tag:noindex
X-PUBLISHED-TTL:PT1H
BEGIN:VTIMEZONE
TZID:UTC
BEGIN:STANDARD
TZOFFSETFROM:+0000
TZOFFSETTO:+0000
TZNAME:UTC
DTSTART:20250101T000000
END:STANDARD
END:VTIMEZONE
BEGIN:VEVENT
DTSTART;TZID=UTC:20260901T090000
DTEND;TZID=UTC:20260901T113000
DTSTAMP:20260423T002629
CREATED:20250918T100046Z
LAST-MODIFIED:20250918T100046Z
UID:17084-1788253200-1788262200@www.liga-saar.de
SUMMARY:Sitzung LIGA-Ausschuss Hilfen zur Erziehung
DESCRIPTION:
URL:https://www.liga-saar.de/event/sitzung-liga-ausschuss-hilfen-zur-erziehung-6/
LOCATION:LIGA-Geschäftsstelle\, Ernst-Abbe-Str. 1\, Saarbrücken\, Saarland\, 66115\, Deutschland
END:VEVENT
END:VCALENDAR