BEGIN:VCALENDAR
VERSION:2.0
PRODID:-//LIGA Saar - ECPv6.15.17//NONSGML v1.0//EN
CALSCALE:GREGORIAN
METHOD:PUBLISH
X-ORIGINAL-URL:https://www.liga-saar.de
X-WR-CALDESC:Veranstaltungen für LIGA Saar
REFRESH-INTERVAL;VALUE=DURATION:PT1H
X-Robots-Tag:noindex
X-PUBLISHED-TTL:PT1H
BEGIN:VTIMEZONE
TZID:UTC
BEGIN:STANDARD
TZOFFSETFROM:+0000
TZOFFSETTO:+0000
TZNAME:UTC
DTSTART:20250101T000000
END:STANDARD
END:VTIMEZONE
BEGIN:VEVENT
DTSTART;TZID=UTC:20261208T140000
DTEND;TZID=UTC:20261208T170000
DTSTAMP:20260423T070605
CREATED:20251211T093835Z
LAST-MODIFIED:20251211T093835Z
UID:17187-1796738400-1796749200@www.liga-saar.de
SUMMARY:Sitzung Unterausschuss Drogen
DESCRIPTION:
URL:https://www.liga-saar.de/event/sitzung-unterausschuss-drogen-3/
LOCATION:Nauwieser 19\, Nauwieserstraße 19\, Saarbrücken\, 66111
END:VEVENT
END:VCALENDAR