BEGIN:VCALENDAR
VERSION:2.0
PRODID:-//LIGA Saar - ECPv6.15.17//NONSGML v1.0//EN
CALSCALE:GREGORIAN
METHOD:PUBLISH
X-ORIGINAL-URL:https://www.liga-saar.de
X-WR-CALDESC:Veranstaltungen für LIGA Saar
REFRESH-INTERVAL;VALUE=DURATION:PT1H
X-Robots-Tag:noindex
X-PUBLISHED-TTL:PT1H
BEGIN:VTIMEZONE
TZID:UTC
BEGIN:STANDARD
TZOFFSETFROM:+0000
TZOFFSETTO:+0000
TZNAME:UTC
DTSTART:20240101T000000
END:STANDARD
END:VTIMEZONE
BEGIN:VEVENT
DTSTART;TZID=UTC:20260420T090000
DTEND;TZID=UTC:20260420T120000
DTSTAMP:20260422T161945
CREATED:20260115T090243Z
LAST-MODIFIED:20260115T090243Z
UID:17201-1776675600-1776686400@www.liga-saar.de
SUMMARY:Unterausschuss Kinder aus suchtbelasteten Familien
DESCRIPTION:
URL:https://www.liga-saar.de/event/unterausschuss-kinder-aus-suchtbelasteten-familien/
LOCATION:LIGA-Geschäftsstelle\, Ernst-Abbe-Str. 1\, Saarbrücken\, Saarland\, 66115\, Deutschland
END:VEVENT
BEGIN:VEVENT
DTSTART;TZID=UTC:20260324T090000
DTEND;TZID=UTC:20260324T120000
DTSTAMP:20260422T161945
CREATED:20251119T115827Z
LAST-MODIFIED:20251119T115827Z
UID:17126-1774342800-1774353600@www.liga-saar.de
SUMMARY:Sitzung LIGA-Hauptausschuss
DESCRIPTION:
URL:https://www.liga-saar.de/event/sitzung-liga-hauptausschuss-8/
LOCATION:LIGA-Geschäftsstelle\, Ernst-Abbe-Str. 1\, Saarbrücken\, Saarland\, 66115\, Deutschland
END:VEVENT
BEGIN:VEVENT
DTSTART;TZID=UTC:20260320T090000
DTEND;TZID=UTC:20260320T120000
DTSTAMP:20260422T161945
CREATED:20260129T073522Z
LAST-MODIFIED:20260129T073522Z
UID:17229-1773997200-1774008000@www.liga-saar.de
SUMMARY:Ausschuss Migration und Integration
DESCRIPTION:
URL:https://www.liga-saar.de/event/ausschuss-migration-und-integration/
LOCATION:LIGA-Geschäftsstelle\, Ernst-Abbe-Str. 1\, Saarbrücken\, Saarland\, 66115\, Deutschland
END:VEVENT
BEGIN:VEVENT
DTSTART;TZID=UTC:20260319T090000
DTEND;TZID=UTC:20260319T120000
DTSTAMP:20260422T161945
CREATED:20251202T101302Z
LAST-MODIFIED:20251202T101302Z
UID:17156-1773910800-1773921600@www.liga-saar.de
SUMMARY:Sitzung LIGA-Unterausschuss Kindertagesstätten
DESCRIPTION:
URL:https://www.liga-saar.de/event/sitzung-liga-unterausschuss-kindertagesstaetten/
LOCATION:LIGA-Geschäftsstelle\, Ernst-Abbe-Str. 1\, Saarbrücken\, Saarland\, 66115\, Deutschland
END:VEVENT
BEGIN:VEVENT
DTSTART;TZID=UTC:20260319T090000
DTEND;TZID=UTC:20260319T120000
DTSTAMP:20260422T161945
CREATED:20251201T133338Z
LAST-MODIFIED:20251201T133338Z
UID:17146-1773910800-1773921600@www.liga-saar.de
SUMMARY:Sitzung LIGA-Ausschuss Entgeltfragen Eingliederungshilfe
DESCRIPTION:
URL:https://www.liga-saar.de/event/sitzung-liga-ausschuss-entgeltfragen-eingliederungshilfe-2/
LOCATION:LIGA-Geschäftsstelle\, Ernst-Abbe-Str. 1\, Saarbrücken\, Saarland\, 66115\, Deutschland
END:VEVENT
BEGIN:VEVENT
DTSTART;TZID=UTC:20260312T090000
DTEND;TZID=UTC:20260312T120000
DTSTAMP:20260422T161945
CREATED:20250910T103013Z
LAST-MODIFIED:20250910T103013Z
UID:17059-1773306000-1773316800@www.liga-saar.de
SUMMARY:Sitzung LIGA-Ausschuss Entgeltfragen Jugendhilfe (Vorratstermin)
DESCRIPTION:
URL:https://www.liga-saar.de/event/sitzung-liga-ausschuss-entgeltfragen-jugendhilfe-vorratstermin/
LOCATION:LIGA-Geschäftsstelle\, Ernst-Abbe-Str. 1\, Saarbrücken\, Saarland\, 66115\, Deutschland
END:VEVENT
BEGIN:VEVENT
DTSTART;TZID=UTC:20260303T100000
DTEND;TZID=UTC:20260303T130000
DTSTAMP:20260422T161945
CREATED:20251211T091433Z
LAST-MODIFIED:20251211T091433Z
UID:17177-1772532000-1772542800@www.liga-saar.de
SUMMARY:Sitzung LIGA-Unterausschuss Drogen
DESCRIPTION:
URL:https://www.liga-saar.de/event/sitzung-liga-unterausschuss-drogen-4/
LOCATION:SOS Kinderdorf\, Seilerstr.6\, Saarbrücken\, 66111
END:VEVENT
BEGIN:VEVENT
DTSTART;TZID=UTC:20260303T090000
DTEND;TZID=UTC:20260303T113000
DTSTAMP:20260422T161945
CREATED:20250918T095938Z
LAST-MODIFIED:20250918T095938Z
UID:17080-1772528400-1772537400@www.liga-saar.de
SUMMARY:Sitzung LIGA-Ausschuss Hilfen zur Erziehung
DESCRIPTION:
URL:https://www.liga-saar.de/event/sitzung-liga-ausschuss-hilfen-zur-erziehung-2/
LOCATION:LIGA-Geschäftsstelle\, Ernst-Abbe-Str. 1\, Saarbrücken\, Saarland\, 66115\, Deutschland
END:VEVENT
BEGIN:VEVENT
DTSTART;TZID=UTC:20260226T103000
DTEND;TZID=UTC:20260226T130000
DTSTAMP:20260422T161945
CREATED:20251114T121357Z
LAST-MODIFIED:20251114T121357Z
UID:17122-1772101800-1772110800@www.liga-saar.de
SUMMARY:Sitzung LIGA-Ausschuss Freiwilligendienste
DESCRIPTION:
URL:https://www.liga-saar.de/event/sitzung-liga-ausschuss-freiwilligendienste-6/
LOCATION:LIGA-Geschäftsstelle\, Ernst-Abbe-Str. 1\, Saarbrücken\, Saarland\, 66115\, Deutschland
END:VEVENT
BEGIN:VEVENT
DTSTART;TZID=UTC:20260225T090000
DTEND;TZID=UTC:20260225T120000
DTSTAMP:20260422T161945
CREATED:20251119T120200Z
LAST-MODIFIED:20251119T120200Z
UID:17135-1772010000-1772020800@www.liga-saar.de
SUMMARY:Treffen der Ausschussvorsitzenden
DESCRIPTION:
URL:https://www.liga-saar.de/event/treffen-der-ausschussvorsitzenden/
LOCATION:DRK-Kreisverband Saarlouis\, Carl-Friedrich-Gaus-Straße 4\, Saarwellingen\, 66793
END:VEVENT
BEGIN:VEVENT
DTSTART;TZID=UTC:20260213T090000
DTEND;TZID=UTC:20260213T130000
DTSTAMP:20260422T161945
CREATED:20251211T090606Z
LAST-MODIFIED:20251211T090606Z
UID:17169-1770973200-1770987600@www.liga-saar.de
SUMMARY:Sitzung LIGA-Ausschuss Kinder-\, Jugend- und Familienhilfe
DESCRIPTION:
URL:https://www.liga-saar.de/event/sitzung-liga-ausschuss-kinder-jugend-und-familienhilfe-8/
LOCATION:Saarland
END:VEVENT
BEGIN:VEVENT
DTSTART;TZID=UTC:20260212T090000
DTEND;TZID=UTC:20260212T120000
DTSTAMP:20260422T161945
CREATED:20251106T113842Z
LAST-MODIFIED:20251106T113842Z
UID:17109-1770886800-1770897600@www.liga-saar.de
SUMMARY:Sitzung LIGA-Ausschuss Psychiatrie
DESCRIPTION:
URL:https://www.liga-saar.de/event/sitzung-liga-ausschuss-psychiatrie-7/
LOCATION:LIGA-Geschäftsstelle\, Ernst-Abbe-Str. 1\, Saarbrücken\, Saarland\, 66115\, Deutschland
END:VEVENT
BEGIN:VEVENT
DTSTART;TZID=UTC:20260212T090000
DTEND;TZID=UTC:20260212T120000
DTSTAMP:20260422T161945
CREATED:20250910T102917Z
LAST-MODIFIED:20250910T102917Z
UID:17057-1770886800-1770897600@www.liga-saar.de
SUMMARY:Sitzung LIGA-Ausschuss Entgeltfragen Jugendhilfe
DESCRIPTION:
URL:https://www.liga-saar.de/event/sitzung-liga-ausschuss-entgeltfragen-jugendhilfe-7/
LOCATION:LIGA-Geschäftsstelle\, Ernst-Abbe-Str. 1\, Saarbrücken\, Saarland\, 66115\, Deutschland
END:VEVENT
BEGIN:VEVENT
DTSTART;TZID=UTC:20260203T090000
DTEND;TZID=UTC:20260203T120000
DTSTAMP:20260422T161945
CREATED:20251119T115750Z
LAST-MODIFIED:20251119T115750Z
UID:17124-1770109200-1770120000@www.liga-saar.de
SUMMARY:Sitzung LIGA-Hauptausschuss
DESCRIPTION:
URL:https://www.liga-saar.de/event/sitzung-liga-hauptausschuss-7/
LOCATION:LIGA-Geschäftsstelle\, Ernst-Abbe-Str. 1\, Saarbrücken\, Saarland\, 66115\, Deutschland
END:VEVENT
BEGIN:VEVENT
DTSTART;TZID=UTC:20260128T090000
DTEND;TZID=UTC:20260128T120000
DTSTAMP:20260422T161945
CREATED:20251212T090807Z
LAST-MODIFIED:20251212T090807Z
UID:17189-1769590800-1769601600@www.liga-saar.de
SUMMARY:LIGA-Ausschuss Migration und Integration
DESCRIPTION:
URL:https://www.liga-saar.de/event/liga-ausschuss-migration-und-integration/
LOCATION:LIGA-Geschäftsstelle\, Ernst-Abbe-Str. 1\, Saarbrücken\, Saarland\, 66115\, Deutschland
END:VEVENT
BEGIN:VEVENT
DTSTART;TZID=UTC:20260127T140000
DTEND;TZID=UTC:20260127T160000
DTSTAMP:20260422T161945
CREATED:20260115T090055Z
LAST-MODIFIED:20260115T090055Z
UID:17199-1769522400-1769529600@www.liga-saar.de
SUMMARY:Ausschuss Ganztägige Bildung und Betreuung
DESCRIPTION:
URL:https://www.liga-saar.de/event/ausschuss-ganztaegige-bildung-und-betreuung/
LOCATION:LIGA-Geschäftsstelle\, Ernst-Abbe-Str. 1\, Saarbrücken\, Saarland\, 66115\, Deutschland
END:VEVENT
BEGIN:VEVENT
DTSTART;TZID=UTC:20260120T100000
DTEND;TZID=UTC:20260120T140000
DTSTAMP:20260422T161945
CREATED:20260115T085909Z
LAST-MODIFIED:20260115T085909Z
UID:17197-1768903200-1768917600@www.liga-saar.de
SUMMARY:Unterausschuss Schwangerschaftskonfliktberatung
DESCRIPTION:
URL:https://www.liga-saar.de/event/unterausschuss-schwangerschaftskonfliktberatung/
LOCATION:LIGA-Geschäftsstelle\, Ernst-Abbe-Str. 1\, Saarbrücken\, Saarland\, 66115\, Deutschland
END:VEVENT
BEGIN:VEVENT
DTSTART;TZID=UTC:20260116T100000
DTEND;TZID=UTC:20260116T130000
DTSTAMP:20260422T161945
CREATED:20251111T104726Z
LAST-MODIFIED:20251111T104726Z
UID:17111-1768557600-1768568400@www.liga-saar.de
SUMMARY:Sitzung LIGA-Ausschuss Schuldnerberatung
DESCRIPTION:
URL:https://www.liga-saar.de/event/sitzung-liga-ausschuss-schuldnerberatung/
LOCATION:LIGA-Geschäftsstelle\, Ernst-Abbe-Str. 1\, Saarbrücken\, Saarland\, 66115\, Deutschland
END:VEVENT
BEGIN:VEVENT
DTSTART;TZID=UTC:20260115T090000
DTEND;TZID=UTC:20260115T120000
DTSTAMP:20260422T161945
CREATED:20251201T133302Z
LAST-MODIFIED:20251201T133302Z
UID:17144-1768467600-1768478400@www.liga-saar.de
SUMMARY:Sitzung LIGA-Ausschuss Entgeltfragen Eingliederungshilfe
DESCRIPTION:
URL:https://www.liga-saar.de/event/sitzung-liga-ausschuss-entgeltfragen-eingliederungshilfe/
LOCATION:LIGA-Geschäftsstelle\, Ernst-Abbe-Str. 1\, Saarbrücken\, Saarland\, 66115\, Deutschland
END:VEVENT
BEGIN:VEVENT
DTSTART;TZID=UTC:20251218T100000
DTEND;TZID=UTC:20251218T120000
DTSTAMP:20260422T161945
CREATED:20250327T094410Z
LAST-MODIFIED:20250327T094410Z
UID:16915-1766052000-1766059200@www.liga-saar.de
SUMMARY:Sitzung LIGA-Ausschuss ArbeitArmut
DESCRIPTION:
URL:https://www.liga-saar.de/event/sitzung-liga-ausschuss-arbeitarmut-5/
LOCATION:LIGA-Geschäftsstelle\, Ernst-Abbe-Str. 1\, Saarbrücken\, Saarland\, 66115\, Deutschland
END:VEVENT
BEGIN:VEVENT
DTSTART;TZID=UTC:20251210T090000
DTEND;TZID=UTC:20251210T120000
DTSTAMP:20260422T161945
CREATED:20250224T121101Z
LAST-MODIFIED:20250224T121101Z
UID:16890-1765357200-1765368000@www.liga-saar.de
SUMMARY:Sitzung LIGA-Ausschuss Kinder-\, Jugend- und Familienhilfe
DESCRIPTION:
URL:https://www.liga-saar.de/event/sitzung-liga-ausschuss-kinder-jugend-und-familienhilfe-11/
LOCATION:LIGA-Geschäftsstelle\, Ernst-Abbe-Str. 1\, Saarbrücken\, Saarland\, 66115\, Deutschland
END:VEVENT
BEGIN:VEVENT
DTSTART;TZID=UTC:20251128T100000
DTEND;TZID=UTC:20251128T123000
DTSTAMP:20260422T161945
CREATED:20241118T091825Z
LAST-MODIFIED:20250925T104715Z
UID:16647-1764324000-1764333000@www.liga-saar.de
SUMMARY:Sitzung LIGA-Ausschuss Saarländische Landesstelle für Suchtfragen
DESCRIPTION:
URL:https://www.liga-saar.de/event/sitzung-liga-ausschuss-saarlaendische-landesstelle-fuer-suchtfragen-7/
LOCATION:Saarland
END:VEVENT
BEGIN:VEVENT
DTSTART;TZID=UTC:20251118T090000
DTEND;TZID=UTC:20251118T120000
DTSTAMP:20260422T161945
CREATED:20241202T095728Z
LAST-MODIFIED:20241202T095728Z
UID:16689-1763456400-1763467200@www.liga-saar.de
SUMMARY:Sitzung LIGA-Hauptausschuss
DESCRIPTION:
URL:https://www.liga-saar.de/event/sitzung-liga-hauptausschuss-6/
LOCATION:LIGA-Geschäftsstelle\, Ernst-Abbe-Str. 1\, Saarbrücken\, Saarland\, 66115\, Deutschland
END:VEVENT
BEGIN:VEVENT
DTSTART;TZID=UTC:20251114T100000
DTEND;TZID=UTC:20251114T123000
DTSTAMP:20260422T161945
CREATED:20250314T120454Z
LAST-MODIFIED:20250314T120454Z
UID:16900-1763114400-1763123400@www.liga-saar.de
SUMMARY:Sitzung LIGA-Ausschuss Freiwilligendienste
DESCRIPTION:
URL:https://www.liga-saar.de/event/sitzung-liga-ausschuss-freiwilligendienste-4/
LOCATION:LIGA-Geschäftsstelle\, Ernst-Abbe-Str. 1\, Saarbrücken\, Saarland\, 66115\, Deutschland
END:VEVENT
BEGIN:VEVENT
DTSTART;TZID=UTC:20251113T090000
DTEND;TZID=UTC:20251113T120000
DTSTAMP:20260422T161945
CREATED:20241202T100421Z
LAST-MODIFIED:20241202T100421Z
UID:16702-1763024400-1763035200@www.liga-saar.de
SUMMARY:Sitzung LIGA-Ausschuss Entgeltfragen Jugendhilfe
DESCRIPTION:
URL:https://www.liga-saar.de/event/sitzung-liga-ausschuss-entgeltfragen-jugendhilfe-6/
LOCATION:LIGA-Geschäftsstelle\, Ernst-Abbe-Str. 1\, Saarbrücken\, Saarland\, 66115\, Deutschland
END:VEVENT
BEGIN:VEVENT
DTSTART;TZID=UTC:20251111T090000
DTEND;TZID=UTC:20251111T120000
DTSTAMP:20260422T161945
CREATED:20250108T085152Z
LAST-MODIFIED:20251103T153619Z
UID:16831-1762851600-1762862400@www.liga-saar.de
SUMMARY:Sitzung LIGA-Ausschuss Behindertenhilfe
DESCRIPTION:
URL:https://www.liga-saar.de/event/sitzung-liga-ausschuss-behindertenhilfe-8/
LOCATION:LIGA-Geschäftsstelle\, Ernst-Abbe-Str. 1\, Saarbrücken\, Saarland\, 66115\, Deutschland
END:VEVENT
BEGIN:VEVENT
DTSTART;TZID=UTC:20251107T090000
DTEND;TZID=UTC:20251107T120000
DTSTAMP:20260422T161945
CREATED:20241212T081939Z
LAST-MODIFIED:20241212T081939Z
UID:16748-1762506000-1762516800@www.liga-saar.de
SUMMARY:Sitzung LIGA-Ausschuss Kindertagesstätten
DESCRIPTION:
URL:https://www.liga-saar.de/event/sitzung-liga-ausschuss-kindertagesstaetten-4/
LOCATION:LIGA-Geschäftsstelle\, Ernst-Abbe-Str. 1\, Saarbrücken\, Saarland\, 66115\, Deutschland
END:VEVENT
BEGIN:VEVENT
DTSTART;TZID=UTC:20251106T090000
DTEND;TZID=UTC:20251106T120000
DTSTAMP:20260422T161945
CREATED:20250704T102154Z
LAST-MODIFIED:20250704T102154Z
UID:17027-1762419600-1762430400@www.liga-saar.de
SUMMARY:Sitzung LIGA-Ausschuss Psychiatrie
DESCRIPTION:
URL:https://www.liga-saar.de/event/sitzung-liga-ausschuss-psychiatrie-6/
LOCATION:LIGA-Geschäftsstelle\, Ernst-Abbe-Str. 1\, Saarbrücken\, Saarland\, 66115\, Deutschland
END:VEVENT
BEGIN:VEVENT
DTSTART;TZID=UTC:20251104T100000
DTEND;TZID=UTC:20251104T140000
DTSTAMP:20260422T161945
CREATED:20250704T103227Z
LAST-MODIFIED:20250708T113105Z
UID:17030-1762250400-1762264800@www.liga-saar.de
SUMMARY:Sitzung LIGA-Unterausschuss Schwangeren(konflikt)beratung
DESCRIPTION:
URL:https://www.liga-saar.de/event/sitzung-liga-unterausschuss-schwangerenkonfliktberatung/
LOCATION:LIGA-Geschäftsstelle\, Ernst-Abbe-Str. 1\, Saarbrücken\, Saarland\, 66115\, Deutschland
END:VEVENT
BEGIN:VEVENT
DTSTART;TZID=UTC:20251030T100000
DTEND;TZID=UTC:20251030T120000
DTSTAMP:20260422T161945
CREATED:20250327T094338Z
LAST-MODIFIED:20250327T094338Z
UID:16913-1761818400-1761825600@www.liga-saar.de
SUMMARY:Sitzung LIGA-Ausschuss ArbeitArmut
DESCRIPTION:
URL:https://www.liga-saar.de/event/sitzung-liga-ausschuss-arbeitarmut-4/
LOCATION:LIGA-Geschäftsstelle\, Ernst-Abbe-Str. 1\, Saarbrücken\, Saarland\, 66115\, Deutschland
END:VEVENT
END:VCALENDAR