BEGIN:VCALENDAR
VERSION:2.0
PRODID:-//LIGA Saar - ECPv6.15.17//NONSGML v1.0//EN
CALSCALE:GREGORIAN
METHOD:PUBLISH
X-WR-CALNAME:LIGA Saar
X-ORIGINAL-URL:https://www.liga-saar.de
X-WR-CALDESC:Veranstaltungen für LIGA Saar
REFRESH-INTERVAL;VALUE=DURATION:PT1H
X-Robots-Tag:noindex
X-PUBLISHED-TTL:PT1H
BEGIN:VTIMEZONE
TZID:UTC
BEGIN:STANDARD
TZOFFSETFROM:+0000
TZOFFSETTO:+0000
TZNAME:UTC
DTSTART:20250101T000000
END:STANDARD
END:VTIMEZONE
BEGIN:VEVENT
DTSTART;TZID=UTC:20260507T090000
DTEND;TZID=UTC:20260507T110000
DTSTAMP:20260422T175909
CREATED:20260123T092345Z
LAST-MODIFIED:20260123T092345Z
UID:17221-1778144400-1778151600@www.liga-saar.de
SUMMARY:Ausschuss Arbeit & Armut
DESCRIPTION:
URL:https://www.liga-saar.de/event/ausschuss-arbeit-armut/
LOCATION:LIGA-Geschäftsstelle\, Ernst-Abbe-Str. 1\, Saarbrücken\, Saarland\, 66115\, Deutschland
END:VEVENT
BEGIN:VEVENT
DTSTART;TZID=UTC:20260507T090000
DTEND;TZID=UTC:20260507T120000
DTSTAMP:20260422T175909
CREATED:20251201T133413Z
LAST-MODIFIED:20251201T133847Z
UID:17148-1778144400-1778155200@www.liga-saar.de
SUMMARY:Sitzung LIGA-Ausschuss Entgeltfragen Eingliederungshilfe
DESCRIPTION:
URL:https://www.liga-saar.de/event/sitzung-liga-ausschuss-entgeltfragen-eingliederungshilfe-3/
LOCATION:LIGA-Geschäftsstelle\, Ernst-Abbe-Str. 1\, Saarbrücken\, Saarland\, 66115\, Deutschland
END:VEVENT
BEGIN:VEVENT
DTSTART;TZID=UTC:20260508T090000
DTEND;TZID=UTC:20260508T120000
DTSTAMP:20260422T175909
CREATED:20250910T103050Z
LAST-MODIFIED:20250910T103050Z
UID:17061-1778230800-1778241600@www.liga-saar.de
SUMMARY:Sitzung LIGA-Ausschuss Entgeltfragen Jugendhilfe
DESCRIPTION:
URL:https://www.liga-saar.de/event/sitzung-liga-ausschuss-entgeltfragen-jugendhilfe-8/
LOCATION:LIGA-Geschäftsstelle\, Ernst-Abbe-Str. 1\, Saarbrücken\, Saarland\, 66115\, Deutschland
END:VEVENT
BEGIN:VEVENT
DTSTART;TZID=UTC:20260511T090000
DTEND;TZID=UTC:20260511T120000
DTSTAMP:20260422T175909
CREATED:20260129T073559Z
LAST-MODIFIED:20260129T073559Z
UID:17231-1778490000-1778500800@www.liga-saar.de
SUMMARY:Ausschuss Migration und Integration
DESCRIPTION:
URL:https://www.liga-saar.de/event/ausschuss-migration-und-integration-2/
LOCATION:LIGA-Geschäftsstelle\, Ernst-Abbe-Str. 1\, Saarbrücken\, Saarland\, 66115\, Deutschland
END:VEVENT
BEGIN:VEVENT
DTSTART;TZID=UTC:20260513T090000
DTEND;TZID=UTC:20260513T130000
DTSTAMP:20260422T175909
CREATED:20251211T090658Z
LAST-MODIFIED:20251211T090658Z
UID:17171-1778662800-1778677200@www.liga-saar.de
SUMMARY:Sitzung LIGA-Ausschuss Kinder-\, Jugend- und Familienhilfe
DESCRIPTION:
URL:https://www.liga-saar.de/event/sitzung-liga-ausschuss-kinder-jugend-und-familienhilfe-9/
LOCATION:Saarland
END:VEVENT
BEGIN:VEVENT
DTSTART;TZID=UTC:20260519T090000
DTEND;TZID=UTC:20260519T160000
DTSTAMP:20260422T175909
CREATED:20251119T120247Z
LAST-MODIFIED:20251119T120247Z
UID:17137-1779181200-1779206400@www.liga-saar.de
SUMMARY:Klausurtagung des LIGA-Hauptausschusses
DESCRIPTION:
URL:https://www.liga-saar.de/event/klausurtagung-des-liga-hauptausschusses/
LOCATION:Saarland
END:VEVENT
END:VCALENDAR