BEGIN:VCALENDAR
VERSION:2.0
PRODID:-//LIGA Saar - ECPv6.15.17//NONSGML v1.0//EN
CALSCALE:GREGORIAN
METHOD:PUBLISH
X-ORIGINAL-URL:https://www.liga-saar.de
X-WR-CALDESC:Veranstaltungen für LIGA Saar
REFRESH-INTERVAL;VALUE=DURATION:PT1H
X-Robots-Tag:noindex
X-PUBLISHED-TTL:PT1H
BEGIN:VTIMEZONE
TZID:UTC
BEGIN:STANDARD
TZOFFSETFROM:+0000
TZOFFSETTO:+0000
TZNAME:UTC
DTSTART:20250101T000000
END:STANDARD
END:VTIMEZONE
BEGIN:VEVENT
DTSTART;TZID=UTC:20260602T140000
DTEND;TZID=UTC:20260602T170000
DTSTAMP:20260422T194139
CREATED:20251211T093529Z
LAST-MODIFIED:20251211T093529Z
UID:17181-1780408800-1780419600@www.liga-saar.de
SUMMARY:Sitzung Unterausschuss Drogen
DESCRIPTION:
URL:https://www.liga-saar.de/event/sitzung-unterausschuss-drogen/
LOCATION:Bewährungshilfe Saarbrücken\, Talstr. 21\, Saarbrücken\, 66119
END:VEVENT
BEGIN:VEVENT
DTSTART;TZID=UTC:20260616T090000
DTEND;TZID=UTC:20260616T120000
DTSTAMP:20260422T194139
CREATED:20251119T115907Z
LAST-MODIFIED:20251119T120008Z
UID:17128-1781600400-1781611200@www.liga-saar.de
SUMMARY:Sitzung LIGA-Hauptausschuss
DESCRIPTION:
URL:https://www.liga-saar.de/event/sitzung-liga-hauptausschuss-9/
LOCATION:LIGA-Geschäftsstelle\, Ernst-Abbe-Str. 1\, Saarbrücken\, Saarland\, 66115\, Deutschland
END:VEVENT
BEGIN:VEVENT
DTSTART;TZID=UTC:20260625T090000
DTEND;TZID=UTC:20260625T110000
DTSTAMP:20260422T194139
CREATED:20260123T092432Z
LAST-MODIFIED:20260123T092432Z
UID:17223-1782378000-1782385200@www.liga-saar.de
SUMMARY:Ausschuss Arbeit & Armut
DESCRIPTION:
URL:https://www.liga-saar.de/event/ausschuss-arbeit-armut-2/
LOCATION:LIGA-Geschäftsstelle\, Ernst-Abbe-Str. 1\, Saarbrücken\, Saarland\, 66115\, Deutschland
END:VEVENT
BEGIN:VEVENT
DTSTART;TZID=UTC:20260625T090000
DTEND;TZID=UTC:20260625T120000
DTSTAMP:20260422T194139
CREATED:20251202T101337Z
LAST-MODIFIED:20251202T101337Z
UID:17158-1782378000-1782388800@www.liga-saar.de
SUMMARY:Sitzung LIGA-Unterausschuss Kindertagesstätten
DESCRIPTION:
URL:https://www.liga-saar.de/event/sitzung-liga-unterausschuss-kindertagesstaetten-2/
LOCATION:LIGA-Geschäftsstelle\, Ernst-Abbe-Str. 1\, Saarbrücken\, Saarland\, 66115\, Deutschland
END:VEVENT
BEGIN:VEVENT
DTSTART;TZID=UTC:20260625T090000
DTEND;TZID=UTC:20260625T120000
DTSTAMP:20260422T194139
CREATED:20260129T073759Z
LAST-MODIFIED:20260129T073759Z
UID:17233-1782378000-1782388800@www.liga-saar.de
SUMMARY:Ausschuss Migration und Integration
DESCRIPTION:
URL:https://www.liga-saar.de/event/ausschuss-migration-und-integration-3/
LOCATION:DRK-Beratungsstelle\, Hochstraße 110\, Saarbrücken\, 66115
END:VEVENT
END:VCALENDAR