BEGIN:VCALENDAR
VERSION:2.0
PRODID:-//LIGA Saar - ECPv6.15.17//NONSGML v1.0//EN
CALSCALE:GREGORIAN
METHOD:PUBLISH
X-ORIGINAL-URL:https://www.liga-saar.de
X-WR-CALDESC:Veranstaltungen für LIGA Saar
REFRESH-INTERVAL;VALUE=DURATION:PT1H
X-Robots-Tag:noindex
X-PUBLISHED-TTL:PT1H
BEGIN:VTIMEZONE
TZID:UTC
BEGIN:STANDARD
TZOFFSETFROM:+0000
TZOFFSETTO:+0000
TZNAME:UTC
DTSTART:20250101T000000
END:STANDARD
END:VTIMEZONE
BEGIN:VEVENT
DTSTART;TZID=UTC:20260901T090000
DTEND;TZID=UTC:20260901T113000
DTSTAMP:20260423T002616
CREATED:20250918T100046Z
LAST-MODIFIED:20250918T100046Z
UID:17084-1788253200-1788262200@www.liga-saar.de
SUMMARY:Sitzung LIGA-Ausschuss Hilfen zur Erziehung
DESCRIPTION:
URL:https://www.liga-saar.de/event/sitzung-liga-ausschuss-hilfen-zur-erziehung-6/
LOCATION:LIGA-Geschäftsstelle\, Ernst-Abbe-Str. 1\, Saarbrücken\, Saarland\, 66115\, Deutschland
END:VEVENT
BEGIN:VEVENT
DTSTART;TZID=UTC:20260908T140000
DTEND;TZID=UTC:20260908T170000
DTSTAMP:20260423T002616
CREATED:20251211T093735Z
LAST-MODIFIED:20251211T093735Z
UID:17184-1788876000-1788886800@www.liga-saar.de
SUMMARY:Sitzung Unterausschuss Drogen
DESCRIPTION:
URL:https://www.liga-saar.de/event/sitzung-unterausschuss-drogen-2/
LOCATION:Die Brigg\, Hüttenbergstr.42\, Neunkirchen\, 66538
END:VEVENT
BEGIN:VEVENT
DTSTART;TZID=UTC:20260915T090000
DTEND;TZID=UTC:20260915T120000
DTSTAMP:20260423T002616
CREATED:20251119T120044Z
LAST-MODIFIED:20251119T120044Z
UID:17131-1789462800-1789473600@www.liga-saar.de
SUMMARY:Sitzung LIGA-Hauptausschuss
DESCRIPTION:
URL:https://www.liga-saar.de/event/sitzung-liga-hauptausschuss-10/
LOCATION:LIGA-Geschäftsstelle\, Ernst-Abbe-Str. 1\, Saarbrücken\, Saarland\, 66115\, Deutschland
END:VEVENT
BEGIN:VEVENT
DTSTART;TZID=UTC:20260917T090000
DTEND;TZID=UTC:20260917T120000
DTSTAMP:20260423T002616
CREATED:20251202T101410Z
LAST-MODIFIED:20251202T101410Z
UID:17160-1789635600-1789646400@www.liga-saar.de
SUMMARY:Sitzung LIGA-Unterausschuss Kindertagesstätten
DESCRIPTION:
URL:https://www.liga-saar.de/event/sitzung-liga-unterausschuss-kindertagesstaetten-3/
LOCATION:LIGA-Geschäftsstelle\, Ernst-Abbe-Str. 1\, Saarbrücken\, Saarland\, 66115\, Deutschland
END:VEVENT
END:VCALENDAR