BEGIN:VCALENDAR
VERSION:2.0
PRODID:-//LIGA Saar - ECPv6.15.17//NONSGML v1.0//EN
CALSCALE:GREGORIAN
METHOD:PUBLISH
X-WR-CALNAME:LIGA Saar
X-ORIGINAL-URL:https://www.liga-saar.de
X-WR-CALDESC:Veranstaltungen für LIGA Saar
REFRESH-INTERVAL;VALUE=DURATION:PT1H
X-Robots-Tag:noindex
X-PUBLISHED-TTL:PT1H
BEGIN:VTIMEZONE
TZID:UTC
BEGIN:STANDARD
TZOFFSETFROM:+0000
TZOFFSETTO:+0000
TZNAME:UTC
DTSTART:20250101T000000
END:STANDARD
END:VTIMEZONE
BEGIN:VEVENT
DTSTART;TZID=UTC:20261105T090000
DTEND;TZID=UTC:20261105T110000
DTSTAMP:20260423T035741
CREATED:20260123T092539Z
LAST-MODIFIED:20260123T092539Z
UID:17227-1793869200-1793876400@www.liga-saar.de
SUMMARY:Ausschuss Arbeit & Armut
DESCRIPTION:
URL:https://www.liga-saar.de/event/ausschuss-arbeit-armut-4/
LOCATION:LIGA-Geschäftsstelle\, Ernst-Abbe-Str. 1\, Saarbrücken\, Saarland\, 66115\, Deutschland
END:VEVENT
BEGIN:VEVENT
DTSTART;TZID=UTC:20261111T090000
DTEND;TZID=UTC:20261111T130000
DTSTAMP:20260423T035741
CREATED:20251211T090835Z
LAST-MODIFIED:20251211T090835Z
UID:17175-1794387600-1794402000@www.liga-saar.de
SUMMARY:Sitzung LIGA-Ausschuss Kinder-\, Jugend- und Familienhilfe
DESCRIPTION:
URL:https://www.liga-saar.de/event/sitzung-liga-ausschuss-kinder-jugend-und-familienhilfe-12/
LOCATION:LIGA-Geschäftsstelle\, Ernst-Abbe-Str. 1\, Saarbrücken\, Saarland\, 66115\, Deutschland
END:VEVENT
BEGIN:VEVENT
DTSTART;TZID=UTC:20261112T090000
DTEND;TZID=UTC:20261112T120000
DTSTAMP:20260423T035741
CREATED:20250910T103205Z
LAST-MODIFIED:20250910T103205Z
UID:17065-1794474000-1794484800@www.liga-saar.de
SUMMARY:Sitzung LIGA-Ausschuss Entgeltfragen Jugendhilfe
DESCRIPTION:
URL:https://www.liga-saar.de/event/sitzung-liga-ausschuss-entgeltfragen-jugendhilfe-10/
LOCATION:LIGA-Geschäftsstelle\, Ernst-Abbe-Str. 1\, Saarbrücken\, Saarland\, 66115\, Deutschland
END:VEVENT
BEGIN:VEVENT
DTSTART;TZID=UTC:20261117T080000
DTEND;TZID=UTC:20261117T170000
DTSTAMP:20260423T035741
CREATED:20251119T120110Z
LAST-MODIFIED:20251119T120110Z
UID:17133-1794902400-1794934800@www.liga-saar.de
SUMMARY:Sitzung LIGA-Hauptausschuss
DESCRIPTION:
URL:https://www.liga-saar.de/event/sitzung-liga-hauptausschuss-11/
LOCATION:LIGA-Geschäftsstelle\, Ernst-Abbe-Str. 1\, Saarbrücken\, Saarland\, 66115\, Deutschland
END:VEVENT
BEGIN:VEVENT
DTSTART;TZID=UTC:20261119T090000
DTEND;TZID=UTC:20261119T113000
DTSTAMP:20260423T035741
CREATED:20250918T100128Z
LAST-MODIFIED:20250918T100128Z
UID:17086-1795078800-1795087800@www.liga-saar.de
SUMMARY:Sitzung LIGA-Ausschuss Hilfen zur Erziehung
DESCRIPTION:
URL:https://www.liga-saar.de/event/sitzung-liga-ausschuss-hilfen-zur-erziehung-7/
LOCATION:LIGA-Geschäftsstelle\, Ernst-Abbe-Str. 1\, Saarbrücken\, Saarland\, 66115\, Deutschland
END:VEVENT
BEGIN:VEVENT
DTSTART;TZID=UTC:20261123T090000
DTEND;TZID=UTC:20261123T120000
DTSTAMP:20260423T035741
CREATED:20260115T090350Z
LAST-MODIFIED:20260115T090350Z
UID:17205-1795424400-1795435200@www.liga-saar.de
SUMMARY:Unterausschuss Kinder aus suchtbelasteten Familien
DESCRIPTION:
URL:https://www.liga-saar.de/event/unterausschuss-kinder-aus-suchtbelasteten-familien-3/
LOCATION:LIGA-Geschäftsstelle\, Ernst-Abbe-Str. 1\, Saarbrücken\, Saarland\, 66115\, Deutschland
END:VEVENT
END:VCALENDAR