BEGIN:VCALENDAR
VERSION:2.0
PRODID:-//LIGA Saar - ECPv6.15.17//NONSGML v1.0//EN
CALSCALE:GREGORIAN
METHOD:PUBLISH
X-WR-CALNAME:LIGA Saar
X-ORIGINAL-URL:https://www.liga-saar.de
X-WR-CALDESC:Veranstaltungen für LIGA Saar
REFRESH-INTERVAL;VALUE=DURATION:PT1H
X-Robots-Tag:noindex
X-PUBLISHED-TTL:PT1H
BEGIN:VTIMEZONE
TZID:UTC
BEGIN:STANDARD
TZOFFSETFROM:+0000
TZOFFSETTO:+0000
TZNAME:UTC
DTSTART:20250101T000000
END:STANDARD
END:VTIMEZONE
BEGIN:VEVENT
DTSTART;TZID=UTC:20261201T090000
DTEND;TZID=UTC:20261201T120000
DTSTAMP:20260423T052506
CREATED:20251202T101443Z
LAST-MODIFIED:20251202T101443Z
UID:17162-1796115600-1796126400@www.liga-saar.de
SUMMARY:Sitzung LIGA-Unterausschuss Kindertagesstätten
DESCRIPTION:
URL:https://www.liga-saar.de/event/sitzung-liga-unterausschuss-kindertagesstaetten-4/
LOCATION:LIGA-Geschäftsstelle\, Ernst-Abbe-Str. 1\, Saarbrücken\, Saarland\, 66115\, Deutschland
END:VEVENT
BEGIN:VEVENT
DTSTART;TZID=UTC:20261203T130000
DTEND;TZID=UTC:20261203T160000
DTSTAMP:20260423T052506
CREATED:20251201T133611Z
LAST-MODIFIED:20251201T133611Z
UID:17154-1796302800-1796313600@www.liga-saar.de
SUMMARY:Sitzung LIGA-Ausschuss Entgeltfragen Eingliederungshilfe
DESCRIPTION:
URL:https://www.liga-saar.de/event/sitzung-liga-ausschuss-entgeltfragen-eingliederungshilfe-6/
LOCATION:LIGA-Geschäftsstelle\, Ernst-Abbe-Str. 1\, Saarbrücken\, Saarland\, 66115\, Deutschland
END:VEVENT
BEGIN:VEVENT
DTSTART;TZID=UTC:20261208T140000
DTEND;TZID=UTC:20261208T170000
DTSTAMP:20260423T052506
CREATED:20251211T093835Z
LAST-MODIFIED:20251211T093835Z
UID:17187-1796738400-1796749200@www.liga-saar.de
SUMMARY:Sitzung Unterausschuss Drogen
DESCRIPTION:
URL:https://www.liga-saar.de/event/sitzung-unterausschuss-drogen-3/
LOCATION:Nauwieser 19\, Nauwieserstraße 19\, Saarbrücken\, 66111
END:VEVENT
END:VCALENDAR